BEGIN:VCALENDAR
VERSION:2.0
PRODID:-//האב ירושלים - ECPv4.9.6//NONSGML v1.0//EN
CALSCALE:GREGORIAN
METHOD:PUBLISH
X-WR-CALNAME:האב ירושלים
X-ORIGINAL-URL:http://www.jerusalemhub.org.il
X-WR-CALDESC:אירועים ל האב ירושלים
BEGIN:VTIMEZONE
TZID:"Europe/Moscow"
BEGIN:STANDARD
TZOFFSETFROM:+0300
TZOFFSETTO:+0300
TZNAME:MSK
DTSTART:20150101T000000
END:STANDARD
END:VTIMEZONE
BEGIN:VEVENT
DTSTART;TZID="Europe/Moscow":20150712T100000
DTEND;TZID="Europe/Moscow":20150712T123000
DTSTAMP:20260424T054106
CREATED:20150623T110957Z
LAST-MODIFIED:20150623T110957Z
UID:2101-1436695200-1436704200@www.jerusalemhub.org.il
SUMMARY:אחת שתים שלוש מודעה!
DESCRIPTION: \n
URL:http://www.jerusalemhub.org.il/event/%d7%90%d7%97%d7%aa-%d7%a9%d7%aa%d7%99%d7%9d-%d7%a9%d7%9c%d7%95%d7%a9-%d7%9e%d7%95%d7%93%d7%a2%d7%94/
CATEGORIES:לוח אירועים
END:VEVENT
END:VCALENDAR