BEGIN:VCALENDAR
VERSION:2.0
PRODID:-//האב ירושלים - ECPv4.9.6//NONSGML v1.0//EN
CALSCALE:GREGORIAN
METHOD:PUBLISH
X-WR-CALNAME:האב ירושלים
X-ORIGINAL-URL:http://www.jerusalemhub.org.il
X-WR-CALDESC:אירועים ל האב ירושלים
BEGIN:VTIMEZONE
TZID:"Europe/Moscow"
BEGIN:STANDARD
TZOFFSETFROM:+0300
TZOFFSETTO:+0300
TZNAME:MSK
DTSTART:20150101T000000
END:STANDARD
END:VTIMEZONE
BEGIN:VEVENT
DTSTART;TZID="Europe/Moscow":20151028T083000
DTEND;TZID="Europe/Moscow":20151028T160000
DTSTAMP:20260421T125703
CREATED:20151018T051327Z
LAST-MODIFIED:20151018T051502Z
UID:2756-1446021000-1446048000@www.jerusalemhub.org.il
SUMMARY:כנס פרילנס: עצמאית בשטח
DESCRIPTION: \n
URL:http://www.jerusalemhub.org.il/event/%d7%9b%d7%a0%d7%a1-%d7%a4%d7%a8%d7%99%d7%9c%d7%a0%d7%a1-%d7%a2%d7%a6%d7%9e%d7%90%d7%99%d7%aa-%d7%91%d7%a9%d7%98%d7%97/
CATEGORIES:לוח אירועים
ATTACH;FMTTYPE=image/jpeg:http://www.jerusalemhub.org.il/wp-content/uploads/2015/10/מודעה-פרילנס-סופית.jpg
END:VEVENT
END:VCALENDAR