BEGIN:VCALENDAR
VERSION:2.0
PRODID:-//האב ירושלים - ECPv4.9.6//NONSGML v1.0//EN
CALSCALE:GREGORIAN
METHOD:PUBLISH
X-WR-CALNAME:האב ירושלים
X-ORIGINAL-URL:http://www.jerusalemhub.org.il
X-WR-CALDESC:אירועים ל האב ירושלים
BEGIN:VTIMEZONE
TZID:"Europe/Moscow"
BEGIN:STANDARD
TZOFFSETFROM:+0300
TZOFFSETTO:+0300
TZNAME:MSK
DTSTART:20150101T000000
END:STANDARD
END:VTIMEZONE
BEGIN:VEVENT
DTSTART;VALUE=DATE:20151027
DTEND;VALUE=DATE:20151028
DTSTAMP:20260421T143236
CREATED:20151006T092246Z
LAST-MODIFIED:20151006T092246Z
UID:2729-1445904000-1445990399@www.jerusalemhub.org.il
SUMMARY:מעבדת יזמות - באנגלית
DESCRIPTION:
URL:http://www.jerusalemhub.org.il/event/%d7%9e%d7%a2%d7%91%d7%93%d7%aa-%d7%99%d7%96%d7%9e%d7%95%d7%aa-%d7%91%d7%90%d7%a0%d7%92%d7%9c%d7%99%d7%aa-3/
CATEGORIES:לוח אירועים
ATTACH;FMTTYPE=image/png:http://www.jerusalemhub.org.il/wp-content/uploads/2015/10/מעבדת-יזמות-באנגלית.png
END:VEVENT
END:VCALENDAR