BEGIN:VCALENDAR
VERSION:2.0
PRODID:-//האב ירושלים - ECPv4.9.6//NONSGML v1.0//EN
CALSCALE:GREGORIAN
METHOD:PUBLISH
X-WR-CALNAME:האב ירושלים
X-ORIGINAL-URL:http://www.jerusalemhub.org.il
X-WR-CALDESC:אירועים ל האב ירושלים
BEGIN:VTIMEZONE
TZID:"Europe/Moscow"
BEGIN:STANDARD
TZOFFSETFROM:+0300
TZOFFSETTO:+0300
TZNAME:MSK
DTSTART:20150101T000000
END:STANDARD
END:VTIMEZONE
BEGIN:VEVENT
DTSTART;TZID="Europe/Moscow":20150820T100000
DTEND;TZID="Europe/Moscow":20150820T130000
DTSTAMP:20260423T060123
CREATED:20150708T092328Z
LAST-MODIFIED:20150708T092328Z
UID:2153-1440064800-1440075600@www.jerusalemhub.org.il
SUMMARY:פרויקט משפחה -רחלי בינר
DESCRIPTION:
URL:http://www.jerusalemhub.org.il/event/%d7%a4%d7%a8%d7%95%d7%99%d7%a7%d7%98-%d7%9e%d7%a9%d7%a4%d7%97%d7%94-%d7%a8%d7%97%d7%9c%d7%99-%d7%91%d7%99%d7%a0%d7%a8/
CATEGORIES:לוח אירועים
END:VEVENT
END:VCALENDAR