BEGIN:VCALENDAR
VERSION:2.0
PRODID:-//האב ירושלים - ECPv4.9.6//NONSGML v1.0//EN
CALSCALE:GREGORIAN
METHOD:PUBLISH
X-WR-CALNAME:האב ירושלים
X-ORIGINAL-URL:http://www.jerusalemhub.org.il
X-WR-CALDESC:אירועים ל האב ירושלים
BEGIN:VTIMEZONE
TZID:"Europe/Moscow"
BEGIN:STANDARD
TZOFFSETFROM:+0300
TZOFFSETTO:+0300
TZNAME:MSK
DTSTART:20150101T000000
END:STANDARD
END:VTIMEZONE
BEGIN:VEVENT
DTSTART;TZID="Europe/Moscow":20151022T090000
DTEND;TZID="Europe/Moscow":20151022T123000
DTSTAMP:20260421T171622
CREATED:20151006T090913Z
LAST-MODIFIED:20151006T090913Z
UID:2724-1445504400-1445517000@www.jerusalemhub.org.il
SUMMARY:קורס אנגלית - ברליץ מסובסד
DESCRIPTION:
URL:http://www.jerusalemhub.org.il/event/%d7%a7%d7%95%d7%a8%d7%a1-%d7%90%d7%a0%d7%92%d7%9c%d7%99%d7%aa-%d7%91%d7%a8%d7%9c%d7%99%d7%a5-%d7%9e%d7%a1%d7%95%d7%91%d7%a1%d7%93-2/
CATEGORIES:לוח אירועים
ATTACH;FMTTYPE=image/jpeg:http://www.jerusalemhub.org.il/wp-content/uploads/2015/10/פרסום-לברליץ.jpg
END:VEVENT
END:VCALENDAR