BEGIN:VCALENDAR
VERSION:2.0
PRODID:-//האב ירושלים - ECPv4.9.6//NONSGML v1.0//EN
CALSCALE:GREGORIAN
METHOD:PUBLISH
X-WR-CALNAME:האב ירושלים
X-ORIGINAL-URL:http://www.jerusalemhub.org.il
X-WR-CALDESC:אירועים ל האב ירושלים
BEGIN:VTIMEZONE
TZID:"Europe/Moscow"
BEGIN:STANDARD
TZOFFSETFROM:+0300
TZOFFSETTO:+0300
TZNAME:MSK
DTSTART:20150101T000000
END:STANDARD
END:VTIMEZONE
BEGIN:VEVENT
DTSTART;TZID="Europe/Moscow":20151019T200000
DTEND;TZID="Europe/Moscow":20151019T220000
DTSTAMP:20260422T024650
CREATED:20151018T071946Z
LAST-MODIFIED:20151018T071946Z
UID:2758-1445284800-1445292000@www.jerusalemhub.org.il
SUMMARY:Introduction to Social Media Marketing
DESCRIPTION:Introduction to Social Media Marketing \nA workshop to get you started marketing your business online  \n Social Media Basics  \nHilary Faverman\, Hilary Faverman Communications \n Get the most from each platform\, choose where to invest your efforts\, and learn the do's and don'ts of social media etiquette. \n Social Media Strategies  \nHadassah Levy\, i-Point Media Group \nReach new audiences and retain customer loyalty using social media. Learn strategies that actually work to expand your business without wasting your time. \nMeasuring Success \nMarna Becker \nHow do you know if your social media marketing efforts are making a difference? Learn how to know if you are in fact reaching your potential customers online. \nWhen: Wednesday\, Oct. 19\, 6-9 PM \nWhere: Temech Hub\, Shaarei Ha'ir\, 216 Yaffo St. Jerusalem\, 9th floor \nPrice: 30 NIS \n To register\, please call 02-538-8665 ext. 1. \nFor more information\, contact Hadassah by phone: 054-5522464 or by email: hadassahblevy@gmail.com. \n
URL:http://www.jerusalemhub.org.il/event/introduction-to-social-media-marketing/
CATEGORIES:לוח אירועים
END:VEVENT
END:VCALENDAR