BEGIN:VCALENDAR
VERSION:2.0
PRODID:-//האב ירושלים - ECPv4.9.6//NONSGML v1.0//EN
CALSCALE:GREGORIAN
METHOD:PUBLISH
X-WR-CALNAME:האב ירושלים
X-ORIGINAL-URL:http://www.jerusalemhub.org.il
X-WR-CALDESC:אירועים ל האב ירושלים
BEGIN:VTIMEZONE
TZID:"Europe/Moscow"
BEGIN:STANDARD
TZOFFSETFROM:+0300
TZOFFSETTO:+0300
TZNAME:MSK
DTSTART:20150101T000000
END:STANDARD
END:VTIMEZONE
BEGIN:VEVENT
DTSTART;TZID="Europe/Moscow":20150827T110000
DTEND;TZID="Europe/Moscow":20150827T123000
DTSTAMP:20260422T215255
CREATED:20150819T123021Z
LAST-MODIFIED:20150819T123021Z
UID:2259-1440673200-1440678600@www.jerusalemhub.org.il
SUMMARY:talkקפה
DESCRIPTION: \n
URL:http://www.jerusalemhub.org.il/event/talk%d7%a7%d7%a4%d7%94-2/
CATEGORIES:לוח אירועים
END:VEVENT
END:VCALENDAR