BEGIN:VCALENDAR
VERSION:2.0
PRODID:-//האב ירושלים - ECPv4.9.6//NONSGML v1.0//EN
CALSCALE:GREGORIAN
METHOD:PUBLISH
X-WR-CALNAME:האב ירושלים
X-ORIGINAL-URL:http://www.jerusalemhub.org.il
X-WR-CALDESC:אירועים ל האב ירושלים
BEGIN:VTIMEZONE
TZID:"Europe/Moscow"
BEGIN:STANDARD
TZOFFSETFROM:+0300
TZOFFSETTO:+0300
TZNAME:MSK
DTSTART:20150101T000000
END:STANDARD
END:VTIMEZONE
BEGIN:VEVENT
DTSTART;TZID="Europe/Moscow":20150818T170000
DTEND;TZID="Europe/Moscow":20150818T200000
DTSTAMP:20260423T072019
CREATED:20150819T123155Z
LAST-MODIFIED:20150819T123155Z
UID:2261-1439917200-1439928000@www.jerusalemhub.org.il
SUMMARY:The innovation lab
DESCRIPTION:
URL:http://www.jerusalemhub.org.il/event/the-innovation-lab/
CATEGORIES:לוח אירועים
END:VEVENT
END:VCALENDAR