BEGIN:VCALENDAR
VERSION:2.0
PRODID:-//האב ירושלים - ECPv4.9.6//NONSGML v1.0//EN
CALSCALE:GREGORIAN
METHOD:PUBLISH
X-WR-CALNAME:האב ירושלים
X-ORIGINAL-URL:http://www.jerusalemhub.org.il
X-WR-CALDESC:אירועים ל האב ירושלים
BEGIN:VTIMEZONE
TZID:"Europe/Moscow"
BEGIN:STANDARD
TZOFFSETFROM:+0300
TZOFFSETTO:+0300
TZNAME:MSK
DTSTART:20150101T000000
END:STANDARD
END:VTIMEZONE
BEGIN:VEVENT
DTSTART;TZID="Europe/Moscow":20150825T100000
DTEND;TZID="Europe/Moscow":20150825T100000
DTSTAMP:20260423T015321
CREATED:20150819T122458Z
LAST-MODIFIED:20150819T122758Z
UID:2255-1440496800-1440496800@www.jerusalemhub.org.il
SUMMARY:The JWWS network intro and first two courses Elul 5775 2015
DESCRIPTION:
URL:http://www.jerusalemhub.org.il/event/the-jwws-network-intro-and-first-two-courses-elul-5775-2015/
CATEGORIES:לוח אירועים
END:VEVENT
END:VCALENDAR